BEGIN:VCALENDAR
VERSION:2.0
PRODID:-//Centre Culturel Stavelot Trois-Ponts - ECPv6.15.11//NONSGML v1.0//EN
CALSCALE:GREGORIAN
METHOD:PUBLISH
X-WR-CALNAME:Centre Culturel Stavelot Trois-Ponts
X-ORIGINAL-URL:https://www.ccstp.be
X-WR-CALDESC:Évènements pour Centre Culturel Stavelot Trois-Ponts
REFRESH-INTERVAL;VALUE=DURATION:PT1H
X-Robots-Tag:noindex
X-PUBLISHED-TTL:PT1H
BEGIN:VTIMEZONE
TZID:Europe/Paris
BEGIN:DAYLIGHT
TZOFFSETFROM:+0100
TZOFFSETTO:+0200
TZNAME:CEST
DTSTART:20240331T010000
END:DAYLIGHT
BEGIN:STANDARD
TZOFFSETFROM:+0200
TZOFFSETTO:+0100
TZNAME:CET
DTSTART:20241027T010000
END:STANDARD
BEGIN:DAYLIGHT
TZOFFSETFROM:+0100
TZOFFSETTO:+0200
TZNAME:CEST
DTSTART:20250330T010000
END:DAYLIGHT
BEGIN:STANDARD
TZOFFSETFROM:+0200
TZOFFSETTO:+0100
TZNAME:CET
DTSTART:20251026T010000
END:STANDARD
BEGIN:DAYLIGHT
TZOFFSETFROM:+0100
TZOFFSETTO:+0200
TZNAME:CEST
DTSTART:20260329T010000
END:DAYLIGHT
BEGIN:STANDARD
TZOFFSETFROM:+0200
TZOFFSETTO:+0100
TZNAME:CET
DTSTART:20261025T010000
END:STANDARD
END:VTIMEZONE
BEGIN:VEVENT
DTSTART;TZID=Europe/Paris:20250601T180000
DTEND;TZID=Europe/Paris:20250601T180000
DTSTAMP:20260421T124903
CREATED:20250601T155602Z
LAST-MODIFIED:20250601T155602Z
UID:29605-1748800800-1748800800@www.ccstp.be
SUMMARY:Vivaces
DESCRIPTION:Par Anne QUINTIN (chant) & Julie RENSON (Conte et Récit). Avec la complicité artistique de Françoise LESAGE (impressions végétales).  \nVivaces se veut une promenade-spectacle à deux voix autour du monde végétal et de la figure médiévale remarquable que fut Hildegard von Bingen. Du côté d’Aisomont -Wanne\, cheminons en compagnie d’Anne Quintin et de Julie Renson dans une déambulation participative.  \nFemme inspirée et inspirante\, Hildegard von Bingen nous invite\, depuis le Moyen Âge\, à nous relier au vivant sous toutes ses formes. Ces deux artistes la côtoient depuis longtemps. Aujourd’hui\, elles la pistent en tous lieux. Rejoignez-les ! A la rencontre du lieu qui nous accueille et du cycle de la nature\, elles rendront Hildegard étonnement proche et percutante dans notre temps d’incertitudes. Elles mêleront leurs voix pour appeler un nouveau solstice\, offrir un parcours inédit et sacrément vivace !  \nUne production : Volubilis asbl. Aide à la mise en scène : Edith van Malder. Aide à la scénographie : Zia Marsiat  \n>>> Cette activité s’inscrit dans le cadre de la programmation thématique « De l’Importance des Fleurs ».  \nConsultez le programme complet via le lien suivant : https://www.ccstp.be/brochures-documents/ \n \nDi 01 06 à 18h (90’) I Lieu : Wanne (Trois-Ponts) – départ à fixer lors de l’inscription \nInfo : 0471-226883 I edith@ccstp.be \nPAF : 15€ I 5€ – 18 ans I I Max 50 pers. I Sur réservation  \nBar et restauration possible au chalet LOCISpectacle à l’église en cas de pluieProfitez aussi des « balades paysagères » à 9h et à 14h (durée 3h).Dans le cadre du festival « Nourrir Autrement » & du festival « Sur les Chemins d’Elise ».
URL:https://www.ccstp.be/agenda/vivaces/
LOCATION:Wanne\, Wanne\, Trois-Ponts\, 4980\, be
CATEGORIES:Musique
END:VEVENT
END:VCALENDAR