BEGIN:VCALENDAR
VERSION:2.0
PRODID:-//Centre Culturel Stavelot Trois-Ponts - ECPv6.15.11//NONSGML v1.0//EN
CALSCALE:GREGORIAN
METHOD:PUBLISH
X-WR-CALNAME:Centre Culturel Stavelot Trois-Ponts
X-ORIGINAL-URL:https://www.ccstp.be
X-WR-CALDESC:Évènements pour Centre Culturel Stavelot Trois-Ponts
REFRESH-INTERVAL;VALUE=DURATION:PT1H
X-Robots-Tag:noindex
X-PUBLISHED-TTL:PT1H
BEGIN:VTIMEZONE
TZID:Europe/Paris
BEGIN:DAYLIGHT
TZOFFSETFROM:+0100
TZOFFSETTO:+0200
TZNAME:CEST
DTSTART:20240331T010000
END:DAYLIGHT
BEGIN:STANDARD
TZOFFSETFROM:+0200
TZOFFSETTO:+0100
TZNAME:CET
DTSTART:20241027T010000
END:STANDARD
BEGIN:DAYLIGHT
TZOFFSETFROM:+0100
TZOFFSETTO:+0200
TZNAME:CEST
DTSTART:20250330T010000
END:DAYLIGHT
BEGIN:STANDARD
TZOFFSETFROM:+0200
TZOFFSETTO:+0100
TZNAME:CET
DTSTART:20251026T010000
END:STANDARD
BEGIN:DAYLIGHT
TZOFFSETFROM:+0100
TZOFFSETTO:+0200
TZNAME:CEST
DTSTART:20260329T010000
END:DAYLIGHT
BEGIN:STANDARD
TZOFFSETFROM:+0200
TZOFFSETTO:+0100
TZNAME:CET
DTSTART:20261025T010000
END:STANDARD
END:VTIMEZONE
BEGIN:VEVENT
DTSTART;TZID=Europe/Paris:20250615T130000
DTEND;TZID=Europe/Paris:20250615T130000
DTSTAMP:20260421T125708
CREATED:20250615T105602Z
LAST-MODIFIED:20250615T105602Z
UID:29582-1749992400-1749992400@www.ccstp.be
SUMMARY:3 Ponts des Arts
DESCRIPTION:Spectacles de rues\, expo et animations.  \n \nExpo Photos « Les Ponts de Trois-Ponts »À 13h à l’Espace guinguetteVernissage de l’exposition des finalistes du concours photos 2025.L’exposition sera visible du 15 juin à fin septembre autour de l’étang du Baleur. Info : RSI de Trois-Ponts et page \n \nSpectacle conté – Dès 5 ans« Au fil des histoires » d’Aurélie Beco à 14h à l’Espace Totem (45’)Des petits bouts d’histoires qui questionnent\, sans réponses qui cloisonnent. Des petits bouts de fils à tisser\, détricoter pour se fabriquer des pelotes d’idées et de pensées. Et peut-être qu’au fil des histoires\, nous trouveront les portes du paradis parce que finalement : il en faut peu pour être heureux ! \n \nCirque aérien – Tout Public « 99 cm » Iara Gueller à 15h à la Cascade du Baleur (50’)Un sincère partage de l’intime\, un point de vue particulier d’une vie\, qui a changé de 99 cm entre le 1er contact avec le monde extérieur et aujourd’hui. Elle est là\, prête (ou presque) à partager ses fantaisies. Entourée d’objets et d’éléments du quotidien détournés de leur fonction\, ce spectacle nous invite à découvrir les coulisses de la vie d’une artiste à travers l’univers circassien. \n \nThéâtre écolo-geek et musical – Tout Public « Naturalisation » par la Cie E42 à 16h15 à l’Espace Vert (35’) Donner une personnalité juridique aux arbres peut-il nous permettre de mieux les protéger ? Quel est notre lien légal à la nature ? La technologie peut-elle nous en rapprocher\, ou sommes-nous au contraire condamnés à être séparés d’elle ? Naturalisation est une cérémonie punko-techno-explosive qui explore joyeusement nos liens avec la nature. \n \nDéambulation « Robert la licorne » par la Cie La Boite à ClousÀ 13h15 – 14h30 – 15h45 et 16h45 autour de l’étang (30’)Il y a quelque temps\, Robert la licorne a été sauvée in extremis de l’abattoir par Renée la fée. Comme Renée est à la retraite\, ils passent leurs journées de vieux briscards à chercher quelques rêves d’enfants à briser. Partout où ils passent\, ils délivrent pets magiques et crottes sucrées pour le plaisir des petits et des grands. \n \nUne journée à l’initiative du Centre culturel et du Royal Syndicat d’initiative de Trois-Ponts\, gratuite pour toute la famille.Info : 080 88 05 20 – www.ccstp.be. Parking et départ de l’Espace culturel de Trois-Ponts. Balade de 2\,4 km. Accessible aux poussettes et PMR au départ de l’Avenue Joseph Lejeune. PAF : libre\, au chapeau.
URL:https://www.ccstp.be/agenda/3-ponts-des-arts-2/
LOCATION:Étang du Bâleur\, Rue des écoles\, Trois-Ponts\, 4980\, be
CATEGORIES:Festival,Jeune Public
END:VEVENT
END:VCALENDAR