BEGIN:VCALENDAR
VERSION:2.0
PRODID:-//Centre Culturel Stavelot Trois-Ponts - ECPv6.15.11//NONSGML v1.0//EN
CALSCALE:GREGORIAN
METHOD:PUBLISH
X-ORIGINAL-URL:https://www.ccstp.be
X-WR-CALDESC:Évènements pour Centre Culturel Stavelot Trois-Ponts
REFRESH-INTERVAL;VALUE=DURATION:PT1H
X-Robots-Tag:noindex
X-PUBLISHED-TTL:PT1H
BEGIN:VTIMEZONE
TZID:Europe/Paris
BEGIN:DAYLIGHT
TZOFFSETFROM:+0100
TZOFFSETTO:+0200
TZNAME:CEST
DTSTART:20240331T010000
END:DAYLIGHT
BEGIN:STANDARD
TZOFFSETFROM:+0200
TZOFFSETTO:+0100
TZNAME:CET
DTSTART:20241027T010000
END:STANDARD
BEGIN:DAYLIGHT
TZOFFSETFROM:+0100
TZOFFSETTO:+0200
TZNAME:CEST
DTSTART:20250330T010000
END:DAYLIGHT
BEGIN:STANDARD
TZOFFSETFROM:+0200
TZOFFSETTO:+0100
TZNAME:CET
DTSTART:20251026T010000
END:STANDARD
BEGIN:DAYLIGHT
TZOFFSETFROM:+0100
TZOFFSETTO:+0200
TZNAME:CEST
DTSTART:20260329T010000
END:DAYLIGHT
BEGIN:STANDARD
TZOFFSETFROM:+0200
TZOFFSETTO:+0100
TZNAME:CET
DTSTART:20261025T010000
END:STANDARD
END:VTIMEZONE
BEGIN:VEVENT
DTSTART;TZID=Europe/Paris:20250627T203000
DTEND;TZID=Europe/Paris:20250627T203000
DTSTAMP:20260421T125227
CREATED:20250627T182802Z
LAST-MODIFIED:20250627T182802Z
UID:29571-1751056200-1751056200@www.ccstp.be
SUMMARY:Tchôdron
DESCRIPTION:Spectacle Pré-VTS à Trois-Ponts! \nParce que vous n’avez pas pu brûler nos arrière-grands-mères\, aujourd’hui nous les chantons\, nous les dansons\, nous les embrassons comme vous ne les avez pas embrasées ! \nÇa existe les sorcières ? À quoi ça ressemble ? Est-ce que tu connais une sorcière ? \nEt si la sorcière n’était pas qu’un personnage au grand nez qui fait bouillir des enfants dans son chaudron mais avant tout une femme\, une femme persécutée\, une voisine qui soigne les brûlures\, une amie qui fait des tisanes\, une grand-mère au potager bien rempli ? \nLéo et Malou racontent et rencontrent celles d’hier qu’on a brûlées et celles d’aujourd’hui qui se révèlent… Mamé et ses plantes magiques\, Michée et son bûcher\, Madeleine et ses mains curatives. \nSpectacle soutenu à la création par le Festival Vacances Théâtre de Stavelot et le Centre culturel de Stavelot-Trois-Ponts. Il est l’aboutissement d’une résidence artistique du Festival VTS 2023. \nDe et avec Antonin Mélotte Blanche Delhausse | Mise en scène Muriel Clairembourg | Production Une Petite Compagnie | Marionnettes Anaëlle Impe\, assisté par Antonin Mélotte | Construction décors Claude Mélotte | Visuel Marie Hardy \nDurée : 1hTarif unique : 15€ \nPlacement libre.
URL:https://www.ccstp.be/agenda/tchodron/
LOCATION:Espace culturel de Trois-Ponts\, Rue Traverse 9\, Trois-Ponts\, 4980\, be
END:VEVENT
END:VCALENDAR