BEGIN:VCALENDAR
VERSION:2.0
PRODID:-//Centre Culturel Stavelot Trois-Ponts - ECPv6.15.11//NONSGML v1.0//EN
CALSCALE:GREGORIAN
METHOD:PUBLISH
X-WR-CALNAME:Centre Culturel Stavelot Trois-Ponts
X-ORIGINAL-URL:https://www.ccstp.be
X-WR-CALDESC:Évènements pour Centre Culturel Stavelot Trois-Ponts
REFRESH-INTERVAL;VALUE=DURATION:PT1H
X-Robots-Tag:noindex
X-PUBLISHED-TTL:PT1H
BEGIN:VTIMEZONE
TZID:Europe/Paris
BEGIN:DAYLIGHT
TZOFFSETFROM:+0100
TZOFFSETTO:+0200
TZNAME:CEST
DTSTART:20250330T010000
END:DAYLIGHT
BEGIN:STANDARD
TZOFFSETFROM:+0200
TZOFFSETTO:+0100
TZNAME:CET
DTSTART:20251026T010000
END:STANDARD
BEGIN:DAYLIGHT
TZOFFSETFROM:+0100
TZOFFSETTO:+0200
TZNAME:CEST
DTSTART:20260329T010000
END:DAYLIGHT
BEGIN:STANDARD
TZOFFSETFROM:+0200
TZOFFSETTO:+0100
TZNAME:CET
DTSTART:20261025T010000
END:STANDARD
BEGIN:DAYLIGHT
TZOFFSETFROM:+0100
TZOFFSETTO:+0200
TZNAME:CEST
DTSTART:20270328T010000
END:DAYLIGHT
BEGIN:STANDARD
TZOFFSETFROM:+0200
TZOFFSETTO:+0100
TZNAME:CET
DTSTART:20271031T010000
END:STANDARD
END:VTIMEZONE
BEGIN:VEVENT
DTSTART;TZID=Europe/Paris:20260326T180000
DTEND;TZID=Europe/Paris:20260423T200000
DTSTAMP:20260421T011759
CREATED:20260420T231602Z
LAST-MODIFIED:20260420T231602Z
UID:29837-1774548000-1776974400@www.ccstp.be
SUMMARY:Cycle d'Ateliers d'écriture - Slam & Poésie
DESCRIPTION:Un cycle de 4 ateliers : 26/03/2026 + 02/04/2026 + 16/04/2026 + 23/04/2026  \nLes jeudis de 18h à 20h – De 16 à 99 ans  \nAnimé par : Julie Lombé\, formatrice\, autrice\, conférencière et artiste engagée au sein du collectif de poétesses L-slam. \nVous rêvez de transformer vos idées\, vos émotions ou vos colères en mots poétiques ?  \nDurant notre cycle de 4 ateliers d’écriture slam\, nous apprendrons à dépasser l’angoisse de la page blanche\, à mettre nos mots en poésie\, à incarner notre texte avec notre voix et notre corps. Un cycle comprenant de nombreux exercices issus du livre « La Méthode Slam! Ecrire pour dire » qui permet à chacun.e\, quel que soit son niveau\, de progresser de manière fulgurante\, tout en s’amusant.  \nInfos pratiques : Matériel à prévoir : feuilles et bic. Une soirée « Micro-ouvert » sera prévue le jeudi 21/05/2026 à 20h dans les Caves de l’Abbaye de Stavelot. Un moment unique de pouvoir partager son texte avec le public.  \nInfo et inscription : 080 88 05 20	 \nPAF : 60€ (15 €/atelier)
URL:https://www.ccstp.be/agenda/cycle-atelier-decriture-slam-poesie/
LOCATION:Salle Electrabel\, Quai des vieux moulins 4\, Stavelot\, 4970\, be
CATEGORIES:Ateliers-Stages
ATTACH;FMTTYPE=image/jpeg:https://www.ccstp.be/wp-content/uploads/2025/08/activityF30231CA-5523-C204-3052-A59047AFF47C.jpeg
END:VEVENT
BEGIN:VEVENT
DTSTART;TZID=Europe/Paris:20260401T100000
DTEND;TZID=Europe/Paris:20260501T170000
DTSTAMP:20260421T011759
CREATED:20260420T231602Z
LAST-MODIFIED:20260420T231602Z
UID:31123-1775037600-1777654800@www.ccstp.be
SUMMARY:Qui m’aime me suive…
DESCRIPTION:Par Martin Dellicour\, photographe  \nLe photographe et vidéaste Martin Dellicour est (re)connu pour son observation attentive de la Nature et du Paysage. Le voici levant le voile sur un coin de son intimité familiale\, celle de son vécu de père\, aux côtés de ses 3 garçons. En observateur effacé\, il suit les aventures de ses fils. Il saisit la spontanéité des émotions et des événements familiaux qui adviennent. La composition\, souvent graphique\, nous guident vers les histoires qui s’inventent et se vivent devant nous. La proximité ainsi que le noir et blanc accentuent l’intemporalité et l’universalité des scènes\, donnent aux images le pouvoir de se projeter vers nos souvenirs. Mais\, derrière ces portraits de fils\, n’est-ce pas un rien de l’enfance d’un père qui apparaît ? \nVernissage guidé par Martin Dellicour le jeudi 2 avril à 18h et 19h30 (sur réservation). \nInfo : 0471 22 68 83 – edith@ccstp.be | PAF : gratuit  \nFormules guidées sur rendez-vous – Brochure complète « Vies de familles » sur notre site Internet \nDans le cadre du cycle « L’art pour tous ».
URL:https://www.ccstp.be/agenda/qui-maime-me-suive/
LOCATION:Espace culturel de Trois-Ponts\, Rue Traverse 9\, Trois-Ponts\, 4980\, be
CATEGORIES:Expos
ATTACH;FMTTYPE=image/jpeg:https://www.ccstp.be/wp-content/uploads/2025/12/activityAC48608B-A656-9907-541B-8FFF7EB7D4B8.jpeg
END:VEVENT
BEGIN:VEVENT
DTSTART;TZID=Europe/Paris:20260421T100000
DTEND;TZID=Europe/Paris:20260421T100000
DTSTAMP:20260421T011759
CREATED:20260420T231602Z
LAST-MODIFIED:20260420T231602Z
UID:31228-1776765600-1776765600@www.ccstp.be
SUMMARY:#VU
DESCRIPTION:Par Arts Nomades. \nPublic : S2 à S6 \nLundi 20 avril à 14hMardi 21 avril à 10h et 14hMercredi 22 avril à 10h (option)Jeudi 23 avril à 10h (option) \nCoup de foudre de la presse aux Rencontres Jeune Public de Huy 2018. Meilleur spectacle jeune public aux Prix Maeterlinck de la critique 2019. Label d’Utilité Publique\, décerné en 2019 par la COCOF. \nLisa c’est pas la star de l’école\, Lisa est pas vraiment belle\, pas vraiment laide non plus. Lisa\, personne ne la regarde ; Lisa\, elle a jamais embrassé un garçon. Lui\, il a jamais embrassé une fille ; il dit que si ! Il dit qu’il en parle pas\, que c’est ses affaires à lui. Que ça regarde personne d’autre que lui. Les autres\, Les mecs\, les nanas aussi\, ils rient\, ils charrient\, ils veulent des preuves. Ils insistent\, ils parient. Un Snapchat de Lisa ! Pourquoi pas ? Lisa à poil dans son bain ! Mais faut qu’on voit tout bien ! Un spectacle puissant et audacieux qui aborde un sujet d’actualité\, une plongée dans la réalité inquiétante du cyberharcèlement chez les ados et qui attire également l’attention sur les questions d’équilibre entre les genres. Un spectacle pour une comédienne et un musicien qui interprètent tous les rôles de cette tragédie du quotidien. \nAvec : Elfée Dursen et Max Charue. Mise en scène : Mattias De Paep et Andreas Christou. Régie : Julie Debaene. Scénographie : France Everard. Musique : Vincent Cuignet. Texte original : Mattias De Paep. Traduction et adaptation : Andreas Christou. Création lumière : Mathieu Houart. Création sonore : Luna Gillet. \nDurée : 60’ + bord de scène – Prix : 6 €
URL:https://www.ccstp.be/agenda/vu-2/
LOCATION:Réfectoire des Moines\, Cour de l'Abbaye 1\, Stavelot\, 4970\, be
CATEGORIES:Scolaire
ATTACH;FMTTYPE=image/jpeg:https://www.ccstp.be/wp-content/uploads/2026/04/activityA3C66B4E-660B-9F4A-4ADC-001FAF861692.jpeg
END:VEVENT
END:VCALENDAR