BEGIN:VCALENDAR
VERSION:2.0
PRODID:-//Centre Culturel Stavelot Trois-Ponts - ECPv6.15.11//NONSGML v1.0//EN
CALSCALE:GREGORIAN
METHOD:PUBLISH
X-WR-CALNAME:Centre Culturel Stavelot Trois-Ponts
X-ORIGINAL-URL:https://www.ccstp.be
X-WR-CALDESC:Évènements pour Centre Culturel Stavelot Trois-Ponts
REFRESH-INTERVAL;VALUE=DURATION:PT1H
X-Robots-Tag:noindex
X-PUBLISHED-TTL:PT1H
BEGIN:VTIMEZONE
TZID:Europe/Paris
BEGIN:DAYLIGHT
TZOFFSETFROM:+0100
TZOFFSETTO:+0200
TZNAME:CEST
DTSTART:20250330T010000
END:DAYLIGHT
BEGIN:STANDARD
TZOFFSETFROM:+0200
TZOFFSETTO:+0100
TZNAME:CET
DTSTART:20251026T010000
END:STANDARD
BEGIN:DAYLIGHT
TZOFFSETFROM:+0100
TZOFFSETTO:+0200
TZNAME:CEST
DTSTART:20260329T010000
END:DAYLIGHT
BEGIN:STANDARD
TZOFFSETFROM:+0200
TZOFFSETTO:+0100
TZNAME:CET
DTSTART:20261025T010000
END:STANDARD
BEGIN:DAYLIGHT
TZOFFSETFROM:+0100
TZOFFSETTO:+0200
TZNAME:CEST
DTSTART:20270328T010000
END:DAYLIGHT
BEGIN:STANDARD
TZOFFSETFROM:+0200
TZOFFSETTO:+0100
TZNAME:CET
DTSTART:20271031T010000
END:STANDARD
END:VTIMEZONE
BEGIN:VEVENT
DTSTART;TZID=Europe/Paris:20260401T100000
DTEND;TZID=Europe/Paris:20260501T170000
DTSTAMP:20260424T013321
CREATED:20260423T233202Z
LAST-MODIFIED:20260423T233202Z
UID:31123-1775037600-1777654800@www.ccstp.be
SUMMARY:Qui m’aime me suive…
DESCRIPTION:Par Martin Dellicour\, photographe  \nLe photographe et vidéaste Martin Dellicour est (re)connu pour son observation attentive de la Nature et du Paysage. Le voici levant le voile sur un coin de son intimité familiale\, celle de son vécu de père\, aux côtés de ses 3 garçons. En observateur effacé\, il suit les aventures de ses fils. Il saisit la spontanéité des émotions et des événements familiaux qui adviennent. La composition\, souvent graphique\, nous guident vers les histoires qui s’inventent et se vivent devant nous. La proximité ainsi que le noir et blanc accentuent l’intemporalité et l’universalité des scènes\, donnent aux images le pouvoir de se projeter vers nos souvenirs. Mais\, derrière ces portraits de fils\, n’est-ce pas un rien de l’enfance d’un père qui apparaît ? \nVernissage guidé par Martin Dellicour le jeudi 2 avril à 18h et 19h30 (sur réservation). \nInfo : 0471 22 68 83 – edith@ccstp.be | PAF : gratuit  \nFormules guidées sur rendez-vous – Brochure complète « Vies de familles » sur notre site Internet \nDans le cadre du cycle « L’art pour tous ».
URL:https://www.ccstp.be/agenda/qui-maime-me-suive/
LOCATION:Espace culturel de Trois-Ponts\, Rue Traverse 9\, Trois-Ponts\, 4980\, be
CATEGORIES:Expos
ATTACH;FMTTYPE=image/jpeg:https://www.ccstp.be/wp-content/uploads/2025/12/activityAC48608B-A656-9907-541B-8FFF7EB7D4B8.jpeg
END:VEVENT
BEGIN:VEVENT
DTSTART;TZID=Europe/Paris:20260424T100000
DTEND;TZID=Europe/Paris:20260424T100000
DTSTAMP:20260424T013321
CREATED:20260423T233202Z
LAST-MODIFIED:20260423T233202Z
UID:31243-1777024800-1777024800@www.ccstp.be
SUMMARY:Adieu Mochi
DESCRIPTION:Par la Cie de la Casquette. \nCie de la Casquette \nPublic : P1 à P3 \nJeudi 23 avril à 10h et 13h30Vendredi 24 avril à 10h (option) \nUne tragi-comédie musicale et décalée. Une ode à l’enfance qui est en nous. \nGrandir\, oui mais comment ? Oui mais pour quoi ? Qu’est-ce qu’on vaut ? Qu’estce qu’on doit ? Faut-il suivre les règles ? Qu’est-ce que je ressens et que je ne m’autorise pas ? Quelle place notre société donne-t-elle à l’enfance ? Comment grandir et rester soi ? C’est l’histoire de deux fillettes dans l’attente de leurs parents. Pas grave : «Je suis prête pour l’avenir» rassure la grande. Elle fait ses devoirs et s’investit corps et âme dans l’éducation de sa sœur adorée. Parce qu’elle est grande\, elle! Elle connaît les règles. «Grandir comme ça\, non merci!» lui rétorque la petite. \nAvec Zoé Coutentin\, Pierre Decuypere et Lucie Flamant. Mise en scène/écriture/dramaturgie/direction d’acteurs: Isabelle Verlaine avec l’aide d’Alice Verlaine Corbion. Décor sonore/musique/scénographie : Alice Verlaine Corbion. Eclairages : Joseph Lavicoli. \nDurée : 60’ + bord de scène – Prix : 4 € \nSpectacle scolaire uniquement. Sauf mention contraire\, toute demande de réservation doit se faire par mail pour sa validation à l’adresse suivante : dominique@ccstp.be
URL:https://www.ccstp.be/agenda/adieu-mochi-3/
LOCATION:Espace culturel de Trois-Ponts\, Rue Traverse 9\, Trois-Ponts\, 4980\, be
CATEGORIES:Scolaire
ATTACH;FMTTYPE=image/jpeg:https://www.ccstp.be/wp-content/uploads/2026/04/activityF176483F-43B0-3F8B-1573-2647E71E969B-1.jpeg
END:VEVENT
END:VCALENDAR