BEGIN:VCALENDAR
VERSION:2.0
PRODID:-//Centre Culturel Stavelot Trois-Ponts - ECPv6.15.11//NONSGML v1.0//EN
CALSCALE:GREGORIAN
METHOD:PUBLISH
X-WR-CALNAME:Centre Culturel Stavelot Trois-Ponts
X-ORIGINAL-URL:https://www.ccstp.be
X-WR-CALDESC:Évènements pour Centre Culturel Stavelot Trois-Ponts
REFRESH-INTERVAL;VALUE=DURATION:PT1H
X-Robots-Tag:noindex
X-PUBLISHED-TTL:PT1H
BEGIN:VTIMEZONE
TZID:Europe/Paris
BEGIN:DAYLIGHT
TZOFFSETFROM:+0100
TZOFFSETTO:+0200
TZNAME:CEST
DTSTART:20250330T010000
END:DAYLIGHT
BEGIN:STANDARD
TZOFFSETFROM:+0200
TZOFFSETTO:+0100
TZNAME:CET
DTSTART:20251026T010000
END:STANDARD
BEGIN:DAYLIGHT
TZOFFSETFROM:+0100
TZOFFSETTO:+0200
TZNAME:CEST
DTSTART:20260329T010000
END:DAYLIGHT
BEGIN:STANDARD
TZOFFSETFROM:+0200
TZOFFSETTO:+0100
TZNAME:CET
DTSTART:20261025T010000
END:STANDARD
BEGIN:DAYLIGHT
TZOFFSETFROM:+0100
TZOFFSETTO:+0200
TZNAME:CEST
DTSTART:20270328T010000
END:DAYLIGHT
BEGIN:STANDARD
TZOFFSETFROM:+0200
TZOFFSETTO:+0100
TZNAME:CET
DTSTART:20271031T010000
END:STANDARD
END:VTIMEZONE
BEGIN:VEVENT
DTSTART;TZID=Europe/Paris:20260531T130000
DTEND;TZID=Europe/Paris:20260531T130000
DTSTAMP:20260421T125239
CREATED:20260421T105205Z
LAST-MODIFIED:20260421T105205Z
UID:31202-1780232400-1780232400@www.ccstp.be
SUMMARY:3 Ponts des Arts
DESCRIPTION:Spectacles de rues\, expo et animations. Une journée à l’initiative du Centre culturel et du Royal Syndicat d’Initiative de Trois-Ponts\, gratuite pour toute la famille. \n \nSpectacle de magie « Et la magie fut » par le Magicien Olivier MaricouxÀ 14h à l’Espace Totem (45’) Le magicien vous emmènera dans un monde où l’irréel pourra paraître réel. Ne clignez pas des yeux\, ne soyez pas distrait car parfois tout va aller très vite. Petits et grands\, soyez vigilants\, la magie est partout.  \n \nDiabolo acrobatique « Allez ça part ! » par le Groove Crew À 15h à la Cascade du Baleur (45’)Des inspirations multiculturelles et une recherche visuelle innovante dans une ambiance groovy\, rythmée et cartoonesque. Les techniques à couper le souffle et les défis insolites s’enchainent afin de proposer une jonglerie de haut niveau mêlée à des situations burlesques et décalées. \n \nDuo acrobatique « Le Syndrome du Bourdon » par la Cie BalancetoiÀ 16h15 à l’Espace Vert (30’)« Le bourdon ne sait pas voler ! »\, ou\, dit en langage plus poético-romantique\, « le bourdon vole parce qu’il ignore qu’il ne sait pas voler… » C’est de là que partent Charlotte et Valentin pour nous emmener tout en légèreté\, dans une quête de confiance\, en soi et en l’autre. Un duo acrobatique bourdonnant\, mêlant vols et envols en tout genre ! \n \nDéambulation poétique « Galactik Manta » par la Cie des 7 ViesÀ 13h15 – 14h30 – 15h45 et 16h45 autour de l’étang (4×30’)Des raies célestes… des koïs dans l’eau bleue ou stellaire du ciel\, des âmes éveillant les cœurs… des amis volants… Tout en douceur et ferveur\, ces cerfs-volants sans vent fuseront dans l’air printanier de 3 Ponts des Arts !  \n \nVernissage de l’Expo « Trois-Ponts\, nos montagnes en hiver »À 13h à l’Espace guinguetteInauguration de l’exposition des photos lauréates du concours 2026 organisé par le RSI de Trois-Ponts. Le thème de cette année était « Trois-Ponts\, nos montagnes en hiver ».  \n \nAnimations : pêche aux canards\, Croquis Maton avec Amandine Notaert\, grimages et espace guinguette.  \n \nUn circuit de 2\,4 km au départ de l’Espace culturel de Trois-Ponts.Le parcours est également accessible aux poussettes et PMR au départ de l’Avenue Lejeune.Entrée gratuite (spectacles au chapeau). Consommations payantes en liquide uniquement.
URL:https://www.ccstp.be/agenda/3-ponts-des-arts/
LOCATION:Étang du Bâleur\, Rue des écoles\, Trois-Ponts\, 4980\, be
CATEGORIES:Festival,Jeune Public
ATTACH;FMTTYPE=image/jpeg:https://www.ccstp.be/wp-content/uploads/2026/04/activityC7458A91-E22E-A3C5-FF59-F3FFB9B52DC3.jpeg
END:VEVENT
END:VCALENDAR