BEGIN:VCALENDAR
VERSION:2.0
PRODID:-//Centre Culturel Stavelot Trois-Ponts - ECPv6.15.11//NONSGML v1.0//EN
CALSCALE:GREGORIAN
METHOD:PUBLISH
X-ORIGINAL-URL:https://www.ccstp.be
X-WR-CALDESC:Évènements pour Centre Culturel Stavelot Trois-Ponts
REFRESH-INTERVAL;VALUE=DURATION:PT1H
X-Robots-Tag:noindex
X-PUBLISHED-TTL:PT1H
BEGIN:VTIMEZONE
TZID:Europe/Paris
BEGIN:DAYLIGHT
TZOFFSETFROM:+0100
TZOFFSETTO:+0200
TZNAME:CEST
DTSTART:20240331T010000
END:DAYLIGHT
BEGIN:STANDARD
TZOFFSETFROM:+0200
TZOFFSETTO:+0100
TZNAME:CET
DTSTART:20241027T010000
END:STANDARD
BEGIN:DAYLIGHT
TZOFFSETFROM:+0100
TZOFFSETTO:+0200
TZNAME:CEST
DTSTART:20250330T010000
END:DAYLIGHT
BEGIN:STANDARD
TZOFFSETFROM:+0200
TZOFFSETTO:+0100
TZNAME:CET
DTSTART:20251026T010000
END:STANDARD
BEGIN:DAYLIGHT
TZOFFSETFROM:+0100
TZOFFSETTO:+0200
TZNAME:CEST
DTSTART:20260329T010000
END:DAYLIGHT
BEGIN:STANDARD
TZOFFSETFROM:+0200
TZOFFSETTO:+0100
TZNAME:CET
DTSTART:20261025T010000
END:STANDARD
END:VTIMEZONE
BEGIN:VEVENT
DTSTART;TZID=Europe/Paris:20250509T190000
DTEND;TZID=Europe/Paris:20250509T190000
DTSTAMP:20260424T054205
CREATED:20250506T084802Z
LAST-MODIFIED:20250506T084802Z
UID:29469-1746817200-1746817200@www.ccstp.be
SUMMARY:Blind-Test Italia in Cantina
DESCRIPTION:Le Vendredi 9 mai à 20h\, dans les Caves de l’Abbaye de Stavelot. \n  \nPassionné de musique italienne (mais pas que)\, de la fête\, de la dolce vita et des antipasti ? Rejoignez-nous subito presto pour le grand blind test made in Italy ! \nConstituez votre équipe de 4 à 6 personnes et choisissez-lui un nom.Pour participer\, un membre du groupe devra télécharger une application mobile gratuite pour interagir avec les questions posées par l’animateur. L’application sera communiquée quelques jours avant la soirée. \n  \nDes lots seront offerts\, dont celui du meilleur nom de groupe\, sans aucune impartialité. \nInfos : 080 88 05 20. \nAnimation : Valéry Habran. \n \nOuverture du bar dès 19h15. \nAntipasti et breuvages italiens à disposition. \n  \nPAF : 8€/personne. \n*4 à 6 personnes par table. Si votre table n’atteint pas 6 personnes\, une personne seule pourra être ajoutée à votre table. \n  \n \nUne activité organisée par le Centre culturel dans le cadre du mois de l’Italie. Demandez le programme complet !
URL:https://www.ccstp.be/agenda/blind-test-italia-in-cantina/
LOCATION:Caves de l’Abbaye de Stavelot\, Cour de l'Abbaye\, Stavelot\, 4970\, be
CATEGORIES:Musique
END:VEVENT
BEGIN:VEVENT
DTSTART;TZID=Europe/Paris:20250522T200000
DTEND;TZID=Europe/Paris:20250522T200000
DTSTAMP:20260424T054205
CREATED:20250522T175602Z
LAST-MODIFIED:20250522T175602Z
UID:4576-1747944000-1747944000@www.ccstp.be
SUMMARY:Soirée Slam et Poésie
DESCRIPTION:Le Centre Culturel vous convie à une soirée exceptionnelle dédiée au Slam et à la Poésie. \nEn première partie\, nous aurons la chance de recevoir des poètes et poétesses de la scène francophone belge pour un partage unique tout en émotion. En seconde partie de soirée\, la scène sera ouverte à tous.  \nQue vous soyez un poète aguerri ou un amateur passionné\, venez partager vos textes et écouter des voix uniques lors de cette scène ouverte de slam. C’est l’occasion idéale pour exprimer votre créativité\, rencontrer des passionnés de poésie\, et vivre des moments inoubliables dans une ambiance conviviale et chaleureuse. \nLe tout sera présenté et animé d’une main de maitre par Julie Lombé\, formatrice\, autrice\, conférencière et artiste engagée au sein du collectif de poétesses L-slam. \nCette soirée a lieu pour clôturer le cycle de quatre ateliers d’écriture qui sera donné par Julie Lombé en avril 2024 à Stavelot. \nJeudi 22 mai 2025 à 20h (ouverture des portes à 19h15 + bar) | Lieu : Caves de l’Abbaye de Stavelot | PAF : 8€ prévente / 10€ sur place | Info et réservation : 080 88 05 20
URL:https://www.ccstp.be/agenda/soiree-slam-et-poesie/
LOCATION:Caves de l’Abbaye de Stavelot\, Cour de l'Abbaye\, Stavelot\, 4970\, be
CATEGORIES:Musique,Théâtre
ATTACH;FMTTYPE=image/jpeg:https://www.ccstp.be/wp-content/uploads/2024/10/activity8D9EBB33-0084-5B1D-18D0-CCF6CBA62E2D.jpeg
END:VEVENT
END:VCALENDAR