BEGIN:VCALENDAR
VERSION:2.0
PRODID:-//Centre Culturel Stavelot Trois-Ponts - ECPv6.15.11//NONSGML v1.0//EN
CALSCALE:GREGORIAN
METHOD:PUBLISH
X-WR-CALNAME:Centre Culturel Stavelot Trois-Ponts
X-ORIGINAL-URL:https://www.ccstp.be
X-WR-CALDESC:Évènements pour Centre Culturel Stavelot Trois-Ponts
REFRESH-INTERVAL;VALUE=DURATION:PT1H
X-Robots-Tag:noindex
X-PUBLISHED-TTL:PT1H
BEGIN:VTIMEZONE
TZID:Europe/Paris
BEGIN:DAYLIGHT
TZOFFSETFROM:+0100
TZOFFSETTO:+0200
TZNAME:CEST
DTSTART:20240331T010000
END:DAYLIGHT
BEGIN:STANDARD
TZOFFSETFROM:+0200
TZOFFSETTO:+0100
TZNAME:CET
DTSTART:20241027T010000
END:STANDARD
BEGIN:DAYLIGHT
TZOFFSETFROM:+0100
TZOFFSETTO:+0200
TZNAME:CEST
DTSTART:20250330T010000
END:DAYLIGHT
BEGIN:STANDARD
TZOFFSETFROM:+0200
TZOFFSETTO:+0100
TZNAME:CET
DTSTART:20251026T010000
END:STANDARD
BEGIN:DAYLIGHT
TZOFFSETFROM:+0100
TZOFFSETTO:+0200
TZNAME:CEST
DTSTART:20260329T010000
END:DAYLIGHT
BEGIN:STANDARD
TZOFFSETFROM:+0200
TZOFFSETTO:+0100
TZNAME:CET
DTSTART:20261025T010000
END:STANDARD
END:VTIMEZONE
BEGIN:VEVENT
DTSTART;TZID=Europe/Paris:20251010T200000
DTEND;TZID=Europe/Paris:20251010T200000
DTSTAMP:20260424T105427
CREATED:20251010T175601Z
LAST-MODIFIED:20251010T175601Z
UID:29781-1760126400-1760126400@www.ccstp.be
SUMMARY:Clemix (b) & Julie Lagarigue (f)
DESCRIPTION:Dans le cadre du Festival 1 chanson peut en cacher une autre… \nClemix (b) « Endorphine »  \nArtiste décomplexée\, Clemix navigue avec aisance entre chanson française\, électro funky et hip-hop jazzy. Avec un humour subtil et une sincérité émouvante\, elle nous embarque dans un univers intime et explosif où les émotions oscillent entre rires et larmes\, énergie et douceur.  \nEn solo\, la pianiste captive le public par sa présence magnétique. Textes acérés\, arrangements soignés\, show joyeux\, drôle et authentique en font un ovni à ne pas manquer ! \nSuivi de  \nJulie Lagarigue (f) « Rendre les armes »  \nAvec sa voix chaude presque gutturale\, Julie irradie de sa présence à l’image des sonorités chantantes de son nom. Le thème de la différence revient sans cesse comme une obsession pour ne pas oublier ceux qui souffrent. Autrice-compositrice-interprète\, dans le sillage de Nicolas Jules\, son mentor\, elle parle d’intimité\, mais surtout d’universalité parce qu’il est urgent de se métamorphoser sans cesse et de vivre. \nPrévente : 17 € – Sur place : 20 € – PASS 2 soirs : 30 € – PASS 4 soirs : 45 €Le festival « 1 chanson peut en cacher une autre\, c’est aussi une programmation scolaire\, un spectacle familial et un stage.Programme complet du festival : 1chanson.be \nDécouvrez les possibilités de co-voiturage pour nos spectacles : CO-VOITURAGE
URL:https://www.ccstp.be/agenda/clemix-b-endorphine-julie-lagarigue-f-rendre-les-armes/
LOCATION:Caves de l’Abbaye de Stavelot\, Cour de l'Abbaye\, Stavelot\, 4970\, be
CATEGORIES:1chanson,Festival,Musique
ATTACH;FMTTYPE=image/jpeg:https://www.ccstp.be/wp-content/uploads/2025/08/activity8614551A-3093-0F89-1C8C-F046FB216C0B.jpeg
END:VEVENT
BEGIN:VEVENT
DTSTART;TZID=Europe/Paris:20251011T200000
DTEND;TZID=Europe/Paris:20251011T200000
DTSTAMP:20260424T105427
CREATED:20251011T175602Z
LAST-MODIFIED:20251011T175602Z
UID:29784-1760212800-1760212800@www.ccstp.be
SUMMARY:Lula Heldt (f) & Hughes Maréchal (b)
DESCRIPTION:Dans le cadre du Festival 1 chanson peut en cacher une autre… \nLula Heldt (f)« Bain de lunes »  \nSolo poétique\, onirique et déjanté. Solo en duo avec Alfred\, le violoncelle joué debout et sans archet. Solo-duo en trio : sa voix\, ses voix\, tant elle joue avec tous les timbres possibles. Sur scène\, elle reste à l’affut de tout ce qui bouge. Les textes\, illuminés de métaphores\, évoquent les cycles de la vie d’une femme. Sa présence hypnotique inspire fragilité et puissance. Cette artiste hors norme\, comme Alfred\, ne saurait que nous surprendre. (Michel Gallas\, in #28 Hexagone) \nSuivi de  \nHughes Maréchal (b) « Ananda\, le chant des possibles » \nAux confins du jazz\, de la chanson et de la musique du monde\, Hughes Maréchal nous revient avec un projet original. « Ananda » (joie en sanskrit) est une musique du coeur qui prend volontairement le contrepied du climat anxiogène de notre monde un peu fou. La voix\, au centre de ce projet\, nous embarque dans un voyage d’une grande force poétique hautement vibratoire. « Le Chant des Possibles » car pour celles et ceux qui refusent la fatalité\, un autre monde est crédible. Entouré de musiciens de haut vol (Michel Mainil\, André Klénés et Bilou Doneux)\, on en ressort\, léger\, ému et joyeux. \nPrévente : 17 € – Sur place : 20 € – PASS 2 soirs : 30 € – PASS 4 soirs : 45 €Le festival « 1 chanson peut en cacher une autre\, c’est aussi une programmation scolaire\, un spectacle familial et un stage.Programme complet du festival : 1chanson.be
URL:https://www.ccstp.be/agenda/lula-heldt-f-hughes-marechal-b/
LOCATION:Caves de l’Abbaye de Stavelot\, Cour de l'Abbaye\, Stavelot\, 4970\, be
CATEGORIES:1chanson,Festival,Musique
ATTACH;FMTTYPE=image/jpeg:https://www.ccstp.be/wp-content/uploads/2025/08/activity5CEF66C7-34B2-02BE-186B-FEE1D3EC5613.jpeg
END:VEVENT
BEGIN:VEVENT
DTSTART;TZID=Europe/Paris:20251017T200000
DTEND;TZID=Europe/Paris:20251017T200000
DTSTAMP:20260424T105427
CREATED:20251017T175601Z
LAST-MODIFIED:20251017T175601Z
UID:29787-1760731200-1760731200@www.ccstp.be
SUMMARY:Noémie Rhéa (b) & Le Cirque des Mirages (f)
DESCRIPTION:Dans le cadre du Festival 1 chanson peut en cacher une autre… \nNoémie Rhéa (b) « Envolées »  \nBousculades\, folie douce\, éclats de rires\, colères et joies qui tissent nos histoires et la sienne\, comme une confidence qui crépite au creux de nos oreilles. « Elle chante comme une louve à la nuit tombante. Ils les portent\, elle et les textes\, avec percussion et finesse. Comme pour Rome\, tous les chemins musicaux mènent à Noémie Rhéa.  \n« Le temps\, au moins\, d’une soirée de passage. Souvent peu sage. » (Pierre Paulus\, Classic 21) \nSuivi de  \nLe Cirque des Mirages (f) « La boite de Pandore »  \nIls reviennent après 20 ans. Ils reviennent avec un cortège de personnages et d’histoires plus fascinantes les unes que les autres. Ces maîtres de la chanson expressionniste ont à cœur de montrer la folie et la démesure de notre époque\, d’en dévoiler l’absurdité et la beauté\, convaincus que les artistes et les poètes sont les antennes de notre civilisation. Éveilleurs de conscience et d’inconscients\, leur Cirque des Mirages fait surgir un invisible qu’on ne soupçonnait même pas. La boite sera difficile à refermer. \nPrévente : 17 € – Sur place : 20 € – PASS 2 soirs : 30 € – PASS 4 soirs : 45 €Le festival « 1 chanson peut en cacher une autre\, c’est aussi une programmation scolaire\, un spectacle familial et un stage.Programme complet du festival : 1chanson.be
URL:https://www.ccstp.be/agenda/noemie-rhea-b-le-cirque-des-mirages-f/
LOCATION:Caves de l’Abbaye de Stavelot\, Cour de l'Abbaye\, Stavelot\, 4970\, be
CATEGORIES:1chanson,Festival,Musique
ATTACH;FMTTYPE=image/jpeg:https://www.ccstp.be/wp-content/uploads/2025/08/activity3BA0AA4E-55AE-3C6C-6ADA-D1D9298D0B93.jpeg
END:VEVENT
BEGIN:VEVENT
DTSTART;TZID=Europe/Paris:20251018T200000
DTEND;TZID=Europe/Paris:20251018T200000
DTSTAMP:20260424T105427
CREATED:20251018T175602Z
LAST-MODIFIED:20251018T175602Z
UID:29790-1760817600-1760817600@www.ccstp.be
SUMMARY:Guillaume Ledent (b) & Thomas Pitiot (f)
DESCRIPTION:Dans le cadre du Festival 1 chanson peut en cacher une autre… \nGuillaume Ledent (b) « Chansons d’entre-deux » \nAvec son sourire jovial\, ses mots croquants et craquants\, Guillaume Ledent nous entretient de choses graves avec une légèreté de bon aloi. Il l’allie à l’élégance d’une chanson finement ciselée qui fait honneur au genre. \nQuelque chose de Souchon\, de McCartney et de Voulzy. Un artiste-artisan trop méconnu avec ses p’tites chansons qui ne paient pas de mine\, mais trottent longtemps dans la caboche.  \nSuivi de  \nThomas Pitiot (f) « Chéri Coco »  \nLes textes de Thomas Pitiot sont d’une humanité grosse comme la planète et les musiques colorées comme l’arc-en-ciel. Ouest-France. La beauté des petites gens est toute entière magnifiée dans une oeuvre riche de fraternité\, qui ne prend sens que dans la main tendue vers son semblable\, la lutte et la résistance à toute forme d’injustice. Luttes qu’il rend belles et fraternelles. Un spectacle en trio tel que nous l’aimons. Des retrouvailles attendues depuis plus de dix ans. \nPrévente : 17 € – Sur place : 20 € – PASS 2 soirs : 30 € – PASS 4 soirs : 45 €Le festival « 1 chanson peut en cacher une autre\, c’est aussi une programmation scolaire\, un spectacle familial et un stage.Programme complet du festival : 1chanson.be
URL:https://www.ccstp.be/agenda/guillaume-ledent-b-thomas-pitiot-f/
LOCATION:Caves de l’Abbaye de Stavelot\, Cour de l'Abbaye\, Stavelot\, 4970\, be
CATEGORIES:1chanson,Festival,Musique
ATTACH;FMTTYPE=image/jpeg:https://www.ccstp.be/wp-content/uploads/2025/08/activity47238F60-D3DE-D5A5-CB8D-CF916D94590A.jpeg
END:VEVENT
BEGIN:VEVENT
DTSTART;TZID=Europe/Paris:20251019T150000
DTEND;TZID=Europe/Paris:20251019T150000
DTSTAMP:20260424T105427
CREATED:20251019T125602Z
LAST-MODIFIED:20251019T125602Z
UID:29794-1760886000-1760886000@www.ccstp.be
SUMMARY:Thomas Pitiot « La Reine des Patates »
DESCRIPTION:Dans le cadre du Festival 1 chanson peut en cacher une autre… \nDès 5 ans! \nGuitare en bandoulière\, Thomas Pitiot offre un concert plein de rythmes et de couleurs\, qui nous donne à danser dès les premiers accords. La « Reine des Patates » c’est d’abord un voyage autour du monde avec ses rythmes latinos et afros\, du funk\, du reggae et de jolies ballades. \nJoyeux\, mais pas crétinisant : pas besoin d’être chiant pour être sérieux. Il trousse les mots avec humour et poésie pour évoquer les différences\, les envies de liberté\, les joies ou pointer du doigt les petits mensonges des grands.  \nInfo : 080 88 05 20 – Prévente : 6€ – Sur place : 7€ – Durée : 50’
URL:https://www.ccstp.be/agenda/thomas-pitiot-la-reine-des-patates/
LOCATION:Abbaye\, Cour de l'Abbaye 1\, Stavelot\, 4970\, be
CATEGORIES:1chanson,Festival,Jeune Public,Musique
ATTACH;FMTTYPE=image/jpeg:https://www.ccstp.be/wp-content/uploads/2025/08/activityB275B32F-85DA-8DE9-B892-FB03D9E3B04C.jpeg
END:VEVENT
BEGIN:VEVENT
DTSTART;TZID=Europe/Paris:20251020T090000
DTEND;TZID=Europe/Paris:20251024T160000
DTSTAMP:20260424T105427
CREATED:20251024T135602Z
LAST-MODIFIED:20251024T135602Z
UID:29797-1760950800-1761321600@www.ccstp.be
SUMMARY:Création d’un clip musical
DESCRIPTION:Animé par Valérie Mathieu\, de Val et les Bateleurs \nPour les enfants de 8 à 12 ans \nLa semaine de création se déroulera en 4 étapes : écriture d’une chanson originale\, écriture scénaristique du clip suivi du tournage\, puis de la découverte du clip et explication du montage. Cet atelier vise à s’initier à l’écriture\, à l’expression musicale et à comprendre les ficelles de la réalisation d’un clip vidéo. Il permet également d’aborder les codes actuels des clips. Avec le soutien des Jeunesses Musicales.  \nPAF : 70 € \nTéléphone : 080 88 05 20 | Mail : info@ccstp.be
URL:https://www.ccstp.be/agenda/creation-dun-clip-musical-3/
LOCATION:Salle Electrabel\, Quai des vieux moulins 4\, Stavelot\, 4970\, be
CATEGORIES:Ateliers-Stages,Festival,Musique
ATTACH;FMTTYPE=image/jpeg:https://www.ccstp.be/wp-content/uploads/2025/08/activity8C8EDD10-8DDF-02B0-BBAB-65A968037ACB.jpeg
END:VEVENT
END:VCALENDAR