BEGIN:VCALENDAR
VERSION:2.0
PRODID:-//Centre Culturel Stavelot Trois-Ponts - ECPv6.15.11//NONSGML v1.0//EN
CALSCALE:GREGORIAN
METHOD:PUBLISH
X-WR-CALNAME:Centre Culturel Stavelot Trois-Ponts
X-ORIGINAL-URL:https://www.ccstp.be
X-WR-CALDESC:Évènements pour Centre Culturel Stavelot Trois-Ponts
REFRESH-INTERVAL;VALUE=DURATION:PT1H
X-Robots-Tag:noindex
X-PUBLISHED-TTL:PT1H
BEGIN:VTIMEZONE
TZID:Europe/Paris
BEGIN:DAYLIGHT
TZOFFSETFROM:+0100
TZOFFSETTO:+0200
TZNAME:CEST
DTSTART:20250330T010000
END:DAYLIGHT
BEGIN:STANDARD
TZOFFSETFROM:+0200
TZOFFSETTO:+0100
TZNAME:CET
DTSTART:20251026T010000
END:STANDARD
BEGIN:DAYLIGHT
TZOFFSETFROM:+0100
TZOFFSETTO:+0200
TZNAME:CEST
DTSTART:20260329T010000
END:DAYLIGHT
BEGIN:STANDARD
TZOFFSETFROM:+0200
TZOFFSETTO:+0100
TZNAME:CET
DTSTART:20261025T010000
END:STANDARD
BEGIN:DAYLIGHT
TZOFFSETFROM:+0100
TZOFFSETTO:+0200
TZNAME:CEST
DTSTART:20270328T010000
END:DAYLIGHT
BEGIN:STANDARD
TZOFFSETFROM:+0200
TZOFFSETTO:+0100
TZNAME:CET
DTSTART:20271031T010000
END:STANDARD
END:VTIMEZONE
BEGIN:VEVENT
DTSTART;TZID=Europe/Paris:20260626T150000
DTEND;TZID=Europe/Paris:20260626T150000
DTSTAMP:20260424T194512
CREATED:20260424T174403Z
LAST-MODIFIED:20260424T174403Z
UID:31212-1782486000-1782486000@www.ccstp.be
SUMMARY:After Exams Party
DESCRIPTION:Nouveaux horaires ! Nouvelle tranche d’âge : tu es dans l’année de tes 15 ans ? Viens fêter la fin des examens avec nous ! Au programme dès 15h : dj set\, fanfare et concert de rap ! Sur place\, bar\, bar à mocktails et petite restauration.  \n  \nAvec :  \n  \n15h30 – 17h : Concert Streetband : Loliband (BE)  \n  \n17h – 19h : DJ Rinco (BE) – généraliste (urbain)  \n  \n19h – 20h : Concert de NUPS3E (BE) : groupe rap belge formé de Alpha\, Godson (Nouvelle école – saison 3) et CRC\, le groupe bruxellois NUPS3E évolue au sein du label J&A\, en lien avec le label Labrique. Le 10 février\, ils ont sorti “Monochrome”\, un premier projet décrivant la noirceur du monde et des lieux où ils ont grandi\, avec des mélodies travaillées. Parallèlement\, chacun poursuit une carrière solo : Godson a rempli Le Botanique\, CRC L’Ancienne Belgique\, et tous deux préparent leurs prochains projets. Alpha\, lui\, finalise son projet solo à venir. Le groupe travaille actuellement sur son retour. \n  \n Une fête estudiantine avec la collaboration et à destination des élèves de la 3ème à la 7ème secondaire. À l’initiative du Centre culturel\, de l’AMO Cap Sud\, d’Infor Jeunes Malmedy\, de la Maison des Jeunes de Stavelot et de la Station à Waimes. Avec la collaboration de l’Institut Saint-Joseph de Trois-Ponts\, de l’ARAHF Stavelot et Malmedy\, du Collège Saint-Remacle de Stavelot\, de l’Institut Notre-Dame de Malmedy\, de l’Athénée Royal de Waimes. Avec le soutien de la Ville de Stavelot et des commerçants. 
URL:https://www.ccstp.be/agenda/after-exams-party/
LOCATION:Esplanade de l’Abbaye\, Cour de l'Abbaye 1\, Stavelot\, 4970\, be
CATEGORIES:Festivités,Musique
ATTACH;FMTTYPE=image/jpeg:https://www.ccstp.be/wp-content/uploads/2026/04/activityAE8E64B2-0EB6-7899-8C38-2730E5B49DCC.jpeg
END:VEVENT
END:VCALENDAR