BEGIN:VCALENDAR
VERSION:2.0
PRODID:-//Centre Culturel Stavelot Trois-Ponts - ECPv6.15.11//NONSGML v1.0//EN
CALSCALE:GREGORIAN
METHOD:PUBLISH
X-WR-CALNAME:Centre Culturel Stavelot Trois-Ponts
X-ORIGINAL-URL:https://www.ccstp.be
X-WR-CALDESC:Évènements pour Centre Culturel Stavelot Trois-Ponts
REFRESH-INTERVAL;VALUE=DURATION:PT1H
X-Robots-Tag:noindex
X-PUBLISHED-TTL:PT1H
BEGIN:VTIMEZONE
TZID:Europe/Paris
BEGIN:DAYLIGHT
TZOFFSETFROM:+0100
TZOFFSETTO:+0200
TZNAME:CEST
DTSTART:20240331T010000
END:DAYLIGHT
BEGIN:STANDARD
TZOFFSETFROM:+0200
TZOFFSETTO:+0100
TZNAME:CET
DTSTART:20241027T010000
END:STANDARD
BEGIN:DAYLIGHT
TZOFFSETFROM:+0100
TZOFFSETTO:+0200
TZNAME:CEST
DTSTART:20250330T010000
END:DAYLIGHT
BEGIN:STANDARD
TZOFFSETFROM:+0200
TZOFFSETTO:+0100
TZNAME:CET
DTSTART:20251026T010000
END:STANDARD
BEGIN:DAYLIGHT
TZOFFSETFROM:+0100
TZOFFSETTO:+0200
TZNAME:CEST
DTSTART:20260329T010000
END:DAYLIGHT
BEGIN:STANDARD
TZOFFSETFROM:+0200
TZOFFSETTO:+0100
TZNAME:CET
DTSTART:20261025T010000
END:STANDARD
END:VTIMEZONE
BEGIN:VEVENT
DTSTART;TZID=Europe/Paris:20251107T200000
DTEND;TZID=Europe/Paris:20251107T200000
DTSTAMP:20260424T133818
CREATED:20251107T185603Z
LAST-MODIFIED:20251107T185603Z
UID:29800-1762545600-1762545600@www.ccstp.be
SUMMARY:La Boîte à Musique Trio
DESCRIPTION:Samson Schmitt : guitare – Joachim Iannello : violon – Johan Dupont : piano \nUnique dans le jazz manouche\, le trio formé par le guitariste Samson Schmitt et les deux virtuoses belges Joachim Iannello (violon) et Johan Dupont (piano) se joue des frontières et des styles\, en convoquant tout à la fois le jazz\, la musique de chambre\, la musique tsigane ou le tango. L’imagination débridée et le swing jubilatoire des trois partenaires nous embarquent\, au gré d’un répertoire constitué essentiellement de compositions originales. \nAprès Rire avec Charlie (2017)\, les trois acolytes reviennent avec La Boîte à Musique\, nouvel opus chill et agréable comme le bar d’un hôtel de luxe\, où complicité et puissance de jeu sont à leur comble. \nPrévente vendredi 11 € (13 € sur place – 8 € moins de 26 ans) – Prévente samedi : 14 € (16 € sur place et – 10 € moins de 26 ans) – PASS 2 jours : 26 € (22 € prévente et 18 € moins de 26 ans)Une organisation du Centre culturel de Stavelot-Trois-Ponts avec la collaboration de Jazz Pirine.
URL:https://www.ccstp.be/agenda/la-boite-a-musique-trio/
LOCATION:Caves de l’Abbaye de Stavelot\, Cour de l'Abbaye\, Stavelot\, 4970\, be
CATEGORIES:Festival,Jazz,Musique
ATTACH;FMTTYPE=image/jpeg:https://www.ccstp.be/wp-content/uploads/2025/08/activity8F004F6A-33E0-7652-E029-B6E314ECEAC8.jpeg
END:VEVENT
END:VCALENDAR