BEGIN:VCALENDAR
VERSION:2.0
PRODID:-//Centre Culturel Stavelot Trois-Ponts - ECPv6.15.11//NONSGML v1.0//EN
CALSCALE:GREGORIAN
METHOD:PUBLISH
X-WR-CALNAME:Centre Culturel Stavelot Trois-Ponts
X-ORIGINAL-URL:https://www.ccstp.be
X-WR-CALDESC:Évènements pour Centre Culturel Stavelot Trois-Ponts
REFRESH-INTERVAL;VALUE=DURATION:PT1H
X-Robots-Tag:noindex
X-PUBLISHED-TTL:PT1H
BEGIN:VTIMEZONE
TZID:Europe/Paris
BEGIN:DAYLIGHT
TZOFFSETFROM:+0100
TZOFFSETTO:+0200
TZNAME:CEST
DTSTART:20250330T010000
END:DAYLIGHT
BEGIN:STANDARD
TZOFFSETFROM:+0200
TZOFFSETTO:+0100
TZNAME:CET
DTSTART:20251026T010000
END:STANDARD
BEGIN:DAYLIGHT
TZOFFSETFROM:+0100
TZOFFSETTO:+0200
TZNAME:CEST
DTSTART:20260329T010000
END:DAYLIGHT
BEGIN:STANDARD
TZOFFSETFROM:+0200
TZOFFSETTO:+0100
TZNAME:CET
DTSTART:20261025T010000
END:STANDARD
BEGIN:DAYLIGHT
TZOFFSETFROM:+0100
TZOFFSETTO:+0200
TZNAME:CEST
DTSTART:20270328T010000
END:DAYLIGHT
BEGIN:STANDARD
TZOFFSETFROM:+0200
TZOFFSETTO:+0100
TZNAME:CET
DTSTART:20271031T010000
END:STANDARD
END:VTIMEZONE
BEGIN:VEVENT
DTSTART;TZID=Europe/Paris:20260301T170000
DTEND;TZID=Europe/Paris:20260301T170000
DTSTAMP:20260424T155901
CREATED:20260301T155601Z
LAST-MODIFIED:20260301T155601Z
UID:31119-1772384400-1772384400@www.ccstp.be
SUMMARY:Les Rendez-vous de la Chapelle - mars
DESCRIPTION:Par les solistes de la Chapelle Musicale Reine Elisabeth \nDepuis 2010\, le Centre culturel collabore avec les équipes de la Chapelle Musicale Reine Elisabeth pour vous offrir\, dans le cadre de sa saison d’hiver\, un cycle de concerts de prestige. Pour cette 15ème édition\, les Rendez-Vous de la Chapelle mettront à l’honneur de jeunes solistes et artistes en résidence\, avec une attention particulière à l’instrument choisi pour le Concours Reine Elisabeth 2026 : le violoncelle. \n \nABEL HOX\, PIANO  \nJ. Brahms : Variations et fugue sur un thème de Haendel\, op. 24 \n \nSHIKI TRIO \nRINO YOSHIMOTO\, VIOLON | TAKUMI NOZAWA\, ALTO | YOONSOO YEO\, VIOLONCELLE \nF. Schubert : Trio à cordes n° 1\, D. 471  \n 	I. Allegro \nJ. Cras : Trio à cordes \n \nInfo : 080 88 05 20PASS 2 concerts : 24 € | 1 concert : 15 €
URL:https://www.ccstp.be/agenda/les-rendez-vous-de-la-chapelle-mars/
LOCATION:Réfectoire des Moines\, Cour de l'Abbaye 1\, Stavelot\, 4970\, be
CATEGORIES:Musique
ATTACH;FMTTYPE=image/jpeg:https://www.ccstp.be/wp-content/uploads/2025/12/activity82116625-0A19-4297-8BE0-0A2B11B7A872.jpeg
END:VEVENT
END:VCALENDAR