BEGIN:VCALENDAR
VERSION:2.0
PRODID:-//Centre Culturel Stavelot Trois-Ponts - ECPv6.15.11//NONSGML v1.0//EN
CALSCALE:GREGORIAN
METHOD:PUBLISH
X-ORIGINAL-URL:https://www.ccstp.be
X-WR-CALDESC:Évènements pour Centre Culturel Stavelot Trois-Ponts
REFRESH-INTERVAL;VALUE=DURATION:PT1H
X-Robots-Tag:noindex
X-PUBLISHED-TTL:PT1H
BEGIN:VTIMEZONE
TZID:Europe/Paris
BEGIN:DAYLIGHT
TZOFFSETFROM:+0100
TZOFFSETTO:+0200
TZNAME:CEST
DTSTART:20250330T010000
END:DAYLIGHT
BEGIN:STANDARD
TZOFFSETFROM:+0200
TZOFFSETTO:+0100
TZNAME:CET
DTSTART:20251026T010000
END:STANDARD
BEGIN:DAYLIGHT
TZOFFSETFROM:+0100
TZOFFSETTO:+0200
TZNAME:CEST
DTSTART:20260329T010000
END:DAYLIGHT
BEGIN:STANDARD
TZOFFSETFROM:+0200
TZOFFSETTO:+0100
TZNAME:CET
DTSTART:20261025T010000
END:STANDARD
BEGIN:DAYLIGHT
TZOFFSETFROM:+0100
TZOFFSETTO:+0200
TZNAME:CEST
DTSTART:20270328T010000
END:DAYLIGHT
BEGIN:STANDARD
TZOFFSETFROM:+0200
TZOFFSETTO:+0100
TZNAME:CET
DTSTART:20271031T010000
END:STANDARD
END:VTIMEZONE
BEGIN:VEVENT
DTSTART;TZID=Europe/Paris:20260521T200000
DTEND;TZID=Europe/Paris:20260521T200000
DTSTAMP:20260424T184924
CREATED:20260424T164804Z
LAST-MODIFIED:20260424T164804Z
UID:29893-1779393600-1779393600@www.ccstp.be
SUMMARY:Soirée Slam et Poésie
DESCRIPTION:Le Centre Culturel vous convie à une soirée exceptionnelle dédiée au Slam et à la Poésie. \nEn première partie\, nous aurons la chance de recevoir des poètes et poétesses de la scène francophone belge pour un partage unique tout en émotion. En seconde partie de soirée\, la scène sera ouverte à tous.  \nQue vous soyez un poète aguerri ou un amateur passionné\, venez partager vos textes et écouter des voix uniques lors de cette scène ouverte de slam. C’est l’occasion idéale pour exprimer votre créativité\, rencontrer des passionnés de poésie\, et vivre des moments inoubliables dans une ambiance conviviale et chaleureuse. \nLe tout sera présenté et animé d’une main de maitre par Julie Lombé\, formatrice\, autrice\, conférencière et artiste engagée au sein du collectif de poétesses L-slam. \nCette soirée a lieu pour clôturer le cycle de quatre ateliers d’écriture qui sera donné par Julie Lombé en avril 2024 à Stavelot. \nJeudi 21 mai 2026 à 20h (ouverture des portes à 19h15 + bar) | Lieu : Caves de l’Abbaye de Stavelot | PAF : 8€ prévente / 10€ sur place | Info et réservation : 080 88 05 20
URL:https://www.ccstp.be/agenda/soiree-slam-et-poesie-2/
LOCATION:Caves de l’Abbaye de Stavelot\, Cour de l'Abbaye\, Stavelot\, 4970\, be
CATEGORIES:Musique,Poésie,Théâtre
ATTACH;FMTTYPE=image/jpeg:https://www.ccstp.be/wp-content/uploads/2025/08/activity8D9EBB33-0084-5B1D-18D0-CCF6CBA62E2D.jpeg
END:VEVENT
END:VCALENDAR