BEGIN:VCALENDAR
VERSION:2.0
PRODID:-//Centre Culturel Stavelot Trois-Ponts - ECPv6.15.11//NONSGML v1.0//EN
CALSCALE:GREGORIAN
METHOD:PUBLISH
X-ORIGINAL-URL:https://www.ccstp.be
X-WR-CALDESC:Évènements pour Centre Culturel Stavelot Trois-Ponts
REFRESH-INTERVAL;VALUE=DURATION:PT1H
X-Robots-Tag:noindex
X-PUBLISHED-TTL:PT1H
BEGIN:VTIMEZONE
TZID:Europe/Paris
BEGIN:DAYLIGHT
TZOFFSETFROM:+0100
TZOFFSETTO:+0200
TZNAME:CEST
DTSTART:20250330T010000
END:DAYLIGHT
BEGIN:STANDARD
TZOFFSETFROM:+0200
TZOFFSETTO:+0100
TZNAME:CET
DTSTART:20251026T010000
END:STANDARD
BEGIN:DAYLIGHT
TZOFFSETFROM:+0100
TZOFFSETTO:+0200
TZNAME:CEST
DTSTART:20260329T010000
END:DAYLIGHT
BEGIN:STANDARD
TZOFFSETFROM:+0200
TZOFFSETTO:+0100
TZNAME:CET
DTSTART:20261025T010000
END:STANDARD
BEGIN:DAYLIGHT
TZOFFSETFROM:+0100
TZOFFSETTO:+0200
TZNAME:CEST
DTSTART:20270328T010000
END:DAYLIGHT
BEGIN:STANDARD
TZOFFSETFROM:+0200
TZOFFSETTO:+0100
TZNAME:CET
DTSTART:20271031T010000
END:STANDARD
END:VTIMEZONE
BEGIN:VEVENT
DTSTART;TZID=Europe/Paris:20260415T100000
DTEND;TZID=Europe/Paris:20260415T100000
DTSTAMP:20260425T061006
CREATED:20260415T075602Z
LAST-MODIFIED:20260415T075602Z
UID:31192-1776247200-1776247200@www.ccstp.be
SUMMARY:Matuvu
DESCRIPTION:Par le Théâtre du Sursaut. \nPublic : P4 à P6 \nLundi 13 avril à 13h30Mardi 14 avril à 10h et 13h30 (option)Mercredi 15 avril à 10h (option) \nUn spectacle tendre\, piquant et parfois cruel autour de notre besoin de « plairance ». Être beau\, être belle… Est-ce important de taper dans l’œil ? D’être remarqué ou de se démarquer ? Et plus fondamentalement\, être beau contribue-t-il à remplir ce besoin vital d’être aimé ? Entre désir\, espoir et besoin\, trois personnages se démènent avec le sujet ? Et si plaire était important mais aussi un gouffre ? Et si ces questions n’amenaient pas de réponses claires et fatales mais offraient plutôt des occasions de (dé)construire ? Et si nous nous amusions un instant de nos égos acrobates ? 3 personnages clownesques plongent au cœur du miroir\, naviguent dans les eaux troubles du rapport à leur propre image et à leurs égos\, jonglent avec les injonctions normatives et détricotent les stéréotypes. Ils se confrontent les uns aux autres et au public : seront-ils capables de s’aventurer au-delà des apparences et d’ouvrir le champ des possibles ? \nHélène Pirenne : Texte- Mise en scène ; Jean Leroy : divers ; Marie-Hélène Tromme ; scénographie- costumes. Interprètes : Caroline Husso\, Médhi Beduin\, Stefano Tumicelli- Techniciens : Christophe Hella (Régie générale) \nDurée : 60’ (bord de scène compris) – Prix : 4 € \nSpectacle scolaire uniquement. Sauf mention contraire\, toute demande de réservation doit se faire par mail pour sa validation à l’adresse suivante : dominique@ccstp.be
URL:https://www.ccstp.be/agenda/matuvu-4/
LOCATION:Réfectoire des Moines\, Cour de l'Abbaye 1\, Stavelot\, 4970\, be
CATEGORIES:Scolaire
ATTACH;FMTTYPE=image/jpeg:https://www.ccstp.be/wp-content/uploads/2026/04/activity2414A31E-7710-5AC3-64B2-4EA23511BCA4-2.jpeg
END:VEVENT
END:VCALENDAR