BEGIN:VCALENDAR
VERSION:2.0
PRODID:-//Centre Culturel Stavelot Trois-Ponts - ECPv6.15.11//NONSGML v1.0//EN
CALSCALE:GREGORIAN
METHOD:PUBLISH
X-WR-CALNAME:Centre Culturel Stavelot Trois-Ponts
X-ORIGINAL-URL:https://www.ccstp.be
X-WR-CALDESC:Évènements pour Centre Culturel Stavelot Trois-Ponts
REFRESH-INTERVAL;VALUE=DURATION:PT1H
X-Robots-Tag:noindex
X-PUBLISHED-TTL:PT1H
BEGIN:VTIMEZONE
TZID:Europe/Paris
BEGIN:DAYLIGHT
TZOFFSETFROM:+0100
TZOFFSETTO:+0200
TZNAME:CEST
DTSTART:20250330T010000
END:DAYLIGHT
BEGIN:STANDARD
TZOFFSETFROM:+0200
TZOFFSETTO:+0100
TZNAME:CET
DTSTART:20251026T010000
END:STANDARD
BEGIN:DAYLIGHT
TZOFFSETFROM:+0100
TZOFFSETTO:+0200
TZNAME:CEST
DTSTART:20260329T010000
END:DAYLIGHT
BEGIN:STANDARD
TZOFFSETFROM:+0200
TZOFFSETTO:+0100
TZNAME:CET
DTSTART:20261025T010000
END:STANDARD
BEGIN:DAYLIGHT
TZOFFSETFROM:+0100
TZOFFSETTO:+0200
TZNAME:CEST
DTSTART:20270328T010000
END:DAYLIGHT
BEGIN:STANDARD
TZOFFSETFROM:+0200
TZOFFSETTO:+0100
TZNAME:CET
DTSTART:20271031T010000
END:STANDARD
END:VTIMEZONE
BEGIN:VEVENT
DTSTART;TZID=Europe/Paris:20260423T100000
DTEND;TZID=Europe/Paris:20260423T100000
DTSTAMP:20260424T195554
CREATED:20260423T075602Z
LAST-MODIFIED:20260423T075602Z
UID:29962-1776938400-1776938400@www.ccstp.be
SUMMARY:Adieu Mochi
DESCRIPTION:Par la Cie de la Casquette. \nCie de la Casquette \nPublic : P1 à P3 \nJeudi 23 avril à 10h et 13h30Vendredi 24 avril à 10h (option) \nUne tragi-comédie musicale et décalée. Une ode à l’enfance qui est en nous. \nGrandir\, oui mais comment ? Oui mais pour quoi ? Qu’est-ce qu’on vaut ? Qu’estce qu’on doit ? Faut-il suivre les règles ? Qu’est-ce que je ressens et que je ne m’autorise pas ? Quelle place notre société donne-t-elle à l’enfance ? Comment grandir et rester soi ? C’est l’histoire de deux fillettes dans l’attente de leurs parents. Pas grave : «Je suis prête pour l’avenir» rassure la grande. Elle fait ses devoirs et s’investit corps et âme dans l’éducation de sa sœur adorée. Parce qu’elle est grande\, elle! Elle connaît les règles. «Grandir comme ça\, non merci!» lui rétorque la petite. \nAvec Zoé Coutentin\, Pierre Decuypere et Lucie Flamant. Mise en scène/écriture/dramaturgie/direction d’acteurs: Isabelle Verlaine avec l’aide d’Alice Verlaine Corbion. Décor sonore/musique/scénographie : Alice Verlaine Corbion. Eclairages : Joseph Lavicoli. \nDurée : 60’ + bord de scène – Prix : 4 € \nSpectacle scolaire uniquement. Sauf mention contraire\, toute demande de réservation doit se faire par mail pour sa validation à l’adresse suivante : dominique@ccstp.be
URL:https://www.ccstp.be/agenda/adieu-mochi/
LOCATION:Espace culturel de Trois-Ponts\, Rue Traverse 9\, Trois-Ponts\, 4980\, be
CATEGORIES:Scolaire
ATTACH;FMTTYPE=image/jpeg:https://www.ccstp.be/wp-content/uploads/2025/09/activityF176483F-43B0-3F8B-1573-2647E71E969B.jpeg
END:VEVENT
BEGIN:VEVENT
DTSTART;TZID=Europe/Paris:20260423T100000
DTEND;TZID=Europe/Paris:20260423T100000
DTSTAMP:20260424T195554
CREATED:20260423T075602Z
LAST-MODIFIED:20260423T075602Z
UID:31237-1776938400-1776938400@www.ccstp.be
SUMMARY:#VU
DESCRIPTION:Par Arts Nomades. \nPublic : S2 à S6 \nLundi 20 avril à 14hMardi 21 avril à 10h et 14hMercredi 22 avril à 10h (option)Jeudi 23 avril à 10h (option) \nCoup de foudre de la presse aux Rencontres Jeune Public de Huy 2018. Meilleur spectacle jeune public aux Prix Maeterlinck de la critique 2019. Label d’Utilité Publique\, décerné en 2019 par la COCOF. \nLisa c’est pas la star de l’école\, Lisa est pas vraiment belle\, pas vraiment laide non plus. Lisa\, personne ne la regarde ; Lisa\, elle a jamais embrassé un garçon. Lui\, il a jamais embrassé une fille ; il dit que si ! Il dit qu’il en parle pas\, que c’est ses affaires à lui. Que ça regarde personne d’autre que lui. Les autres\, Les mecs\, les nanas aussi\, ils rient\, ils charrient\, ils veulent des preuves. Ils insistent\, ils parient. Un Snapchat de Lisa ! Pourquoi pas ? Lisa à poil dans son bain ! Mais faut qu’on voit tout bien ! Un spectacle puissant et audacieux qui aborde un sujet d’actualité\, une plongée dans la réalité inquiétante du cyberharcèlement chez les ados et qui attire également l’attention sur les questions d’équilibre entre les genres. Un spectacle pour une comédienne et un musicien qui interprètent tous les rôles de cette tragédie du quotidien. \nAvec : Elfée Dursen et Max Charue. Mise en scène : Mattias De Paep et Andreas Christou. Régie : Julie Debaene. Scénographie : France Everard. Musique : Vincent Cuignet. Texte original : Mattias De Paep. Traduction et adaptation : Andreas Christou. Création lumière : Mathieu Houart. Création sonore : Luna Gillet. \nDurée : 60’ + bord de scène – Prix : 6 €
URL:https://www.ccstp.be/agenda/vu-5/
LOCATION:Réfectoire des Moines\, Cour de l'Abbaye 1\, Stavelot\, 4970\, be
CATEGORIES:Scolaire
ATTACH;FMTTYPE=image/jpeg:https://www.ccstp.be/wp-content/uploads/2026/04/activityA3C66B4E-660B-9F4A-4ADC-001FAF861692-3.jpeg
END:VEVENT
BEGIN:VEVENT
DTSTART;TZID=Europe/Paris:20260423T133000
DTEND;TZID=Europe/Paris:20260423T133000
DTSTAMP:20260424T195554
CREATED:20260423T112803Z
LAST-MODIFIED:20260423T112803Z
UID:31240-1776951000-1776951000@www.ccstp.be
SUMMARY:Adieu Mochi
DESCRIPTION:Par la Cie de la Casquette. \nCie de la Casquette \nPublic : P1 à P3 \nJeudi 23 avril à 10h et 13h30Vendredi 24 avril à 10h (option) \nUne tragi-comédie musicale et décalée. Une ode à l’enfance qui est en nous. \nGrandir\, oui mais comment ? Oui mais pour quoi ? Qu’est-ce qu’on vaut ? Qu’estce qu’on doit ? Faut-il suivre les règles ? Qu’est-ce que je ressens et que je ne m’autorise pas ? Quelle place notre société donne-t-elle à l’enfance ? Comment grandir et rester soi ? C’est l’histoire de deux fillettes dans l’attente de leurs parents. Pas grave : «Je suis prête pour l’avenir» rassure la grande. Elle fait ses devoirs et s’investit corps et âme dans l’éducation de sa sœur adorée. Parce qu’elle est grande\, elle! Elle connaît les règles. «Grandir comme ça\, non merci!» lui rétorque la petite. \nAvec Zoé Coutentin\, Pierre Decuypere et Lucie Flamant. Mise en scène/écriture/dramaturgie/direction d’acteurs: Isabelle Verlaine avec l’aide d’Alice Verlaine Corbion. Décor sonore/musique/scénographie : Alice Verlaine Corbion. Eclairages : Joseph Lavicoli. \nDurée : 60’ + bord de scène – Prix : 4 € \nSpectacle scolaire uniquement. Sauf mention contraire\, toute demande de réservation doit se faire par mail pour sa validation à l’adresse suivante : dominique@ccstp.be
URL:https://www.ccstp.be/agenda/adieu-mochi-2/
LOCATION:Espace culturel de Trois-Ponts\, Rue Traverse 9\, Trois-Ponts\, 4980\, be
CATEGORIES:Scolaire
ATTACH;FMTTYPE=image/jpeg:https://www.ccstp.be/wp-content/uploads/2026/04/activityF176483F-43B0-3F8B-1573-2647E71E969B.jpeg
END:VEVENT
END:VCALENDAR