BEGIN:VCALENDAR
VERSION:2.0
PRODID:-//Centre Culturel Stavelot Trois-Ponts - ECPv6.15.11//NONSGML v1.0//EN
CALSCALE:GREGORIAN
METHOD:PUBLISH
X-WR-CALNAME:Centre Culturel Stavelot Trois-Ponts
X-ORIGINAL-URL:https://www.ccstp.be
X-WR-CALDESC:Évènements pour Centre Culturel Stavelot Trois-Ponts
REFRESH-INTERVAL;VALUE=DURATION:PT1H
X-Robots-Tag:noindex
X-PUBLISHED-TTL:PT1H
BEGIN:VTIMEZONE
TZID:Europe/Paris
BEGIN:DAYLIGHT
TZOFFSETFROM:+0100
TZOFFSETTO:+0200
TZNAME:CEST
DTSTART:20250330T010000
END:DAYLIGHT
BEGIN:STANDARD
TZOFFSETFROM:+0200
TZOFFSETTO:+0100
TZNAME:CET
DTSTART:20251026T010000
END:STANDARD
BEGIN:DAYLIGHT
TZOFFSETFROM:+0100
TZOFFSETTO:+0200
TZNAME:CEST
DTSTART:20260329T010000
END:DAYLIGHT
BEGIN:STANDARD
TZOFFSETFROM:+0200
TZOFFSETTO:+0100
TZNAME:CET
DTSTART:20261025T010000
END:STANDARD
BEGIN:DAYLIGHT
TZOFFSETFROM:+0100
TZOFFSETTO:+0200
TZNAME:CEST
DTSTART:20270328T010000
END:DAYLIGHT
BEGIN:STANDARD
TZOFFSETFROM:+0200
TZOFFSETTO:+0100
TZNAME:CET
DTSTART:20271031T010000
END:STANDARD
END:VTIMEZONE
BEGIN:VEVENT
DTSTART;TZID=Europe/Paris:20260511T140000
DTEND;TZID=Europe/Paris:20260511T140000
DTSTAMP:20260424T212106
CREATED:20260424T192002Z
LAST-MODIFIED:20260424T192002Z
UID:29965-1778508000-1778508000@www.ccstp.be
SUMMARY:Poule & Lézard
DESCRIPTION:Par la Cie Intempéries. \nPublic : P6-S1. \nLundi 11 mai à 14hMardi 12 mai 2026 à 10h (option) \nUn spectacle plein d’énergie\, drôle et touchant qui aborde la notion de harcèlement sans jamais la nommer et rappelle cette période douloureuse de la vie qu’est l’adolescence\, où prédominent le regard des autres\, l’exclusion\, la question de la normalité et les influences. Prix du Kiwanis lors des Rencontres de Huy 2023. \nPoule est le nouveau de l’école. Il compte bien passer inaperçu\, mais comme toute nouveauté\, il attire les regards et la curiosité. Il rencontre Lézard\, qui vient d’intégrer la bande la plus cool de l’école. Poule et Lézard se retrouvent régulièrement au Terrier\, un terrain vague sur les hauteurs de La Ville. Ce lieu à part est le théâtre de leur amitié\, de leur complicité adolescente\, qui prend une tournure de plus en plus étrange. \nSur un plateau épuré\, les deux comédien(ne)s nous font vivre avec engagement et sensibilité la relation particulière de deux adolescent(e)s à la recherche d’une place dans le regard de l’autre. De la beauté de la rencontre à la cruauté des adieux\, le malaise est présent. Les apparences sont-elles trompeuses ? Paranoïa ou réel danger ? \nAvec : Alix de Beaufort et Mehdy Khachachi. Metteur en scène : Thomas Carlier. Texte : Alix de Beaufort. Eclairages : conception et technique générale : Inès Degives. \nDurée : 50’ + bord de scène – Prix : 4 € (P6) – 6 € (S1) \nSpectacle scolaire uniquement. Sauf mention contraire\, toute demande de réservation doit se faire par mail pour sa validation à l’adresse suivante : dominique@ccstp.be
URL:https://www.ccstp.be/agenda/poule-lezard/
LOCATION:Espace culturel de Trois-Ponts\, Rue Traverse 9\, Trois-Ponts\, 4980\, be
CATEGORIES:Scolaire
ATTACH;FMTTYPE=image/jpeg:https://www.ccstp.be/wp-content/uploads/2025/09/activity699080B3-FD78-7F09-B927-2E5248F58F97.jpeg
END:VEVENT
END:VCALENDAR